BEGIN:VCALENDAR
VERSION:2.0
PRODID:-//Tukios.com/
BEGIN:VEVENT
UID:3aed47c2-6f03-494f-ac6c-bfdae0d7e7a4@obituary.companionfunerals.com
DTSTAMP:20260423T201242Z
DTSTART:20260426T170000Z
DTEND:20260426T190000Z
SUMMARY:Visitation
DESCRIPTION:
URL:https://obituary.companionfunerals.com/norma-mahaffey
LOCATION:Companion Funeral & Cremation Service- Athens     
GEO:0;0
END:VEVENT
END:VCALENDAR