BEGIN:VCALENDAR
VERSION:2.0
PRODID:-//Tukios.com/
BEGIN:VEVENT
UID:e3b944f7-a492-4db4-af44-eec8bd1a9e8f@obituary.companionfunerals.com
DTSTAMP:20260423T201627Z
DTSTART:20260426T190000Z
DTEND:20260426T200000Z
SUMMARY:Funeral Service
DESCRIPTION:
URL:https://obituary.companionfunerals.com/norma-mahaffey
LOCATION:Companion Funeral & Cremation Athens 400 S White St  Athens TN 
	37303
GEO:35.4372831;-84.5905266
END:VEVENT
END:VCALENDAR