BEGIN:VCALENDAR
VERSION:2.0
PRODID:-//Tukios.com/
BEGIN:VEVENT
UID:96b2791f-8f50-4736-8fdd-846823a28554@obituary.companionfunerals.com
DTSTAMP:20260422T231554Z
DTSTART:20260424T190000Z
DTEND:20260424T200000Z
SUMMARY:Graveside Service
DESCRIPTION:
URL:https://obituary.companionfunerals.com/maddie-pullen
LOCATION: 7180 N Lee Hwy  Cleveland TN 37312
GEO:35.2510672;-84.795355
END:VEVENT
END:VCALENDAR