BEGIN:VCALENDAR
VERSION:2.0
PRODID:-//Tukios.com/
BEGIN:VEVENT
UID:a1bcd101-8388-4307-af65-2b4fd680f8f4@obituary.companionfunerals.com
DTSTAMP:20260422T231723Z
DTSTART:20260424T160000Z
DTEND:20260424T180000Z
SUMMARY:Visitation
DESCRIPTION:
URL:https://obituary.companionfunerals.com/maddie-pullen
LOCATION:Companion Funeral Home - The Cleveland Chapel 2415 Georgetown 
	Road Northwest  Cleveland TN 37311
GEO:35.187272;-84.8877739
END:VEVENT
END:VCALENDAR