BEGIN:VCALENDAR
VERSION:2.0
PRODID:-//Tukios.com/
BEGIN:VEVENT
UID:74e7b6af-d9fb-4db5-87f1-239620d5b02e@obituary.companionfunerals.com
DTSTAMP:20260422T231616Z
DTSTART:20260424T180000Z
DTEND:20260424T190000Z
SUMMARY:Celebration of Life
DESCRIPTION:
URL:https://obituary.companionfunerals.com/maddie-pullen
LOCATION: 2415 Georgetown Road Northwest  Cleveland TN 37311
GEO:35.187272;-84.8877739
END:VEVENT
END:VCALENDAR