BEGIN:VCALENDAR
VERSION:2.0
PRODID:-//Tukios.com/
BEGIN:VEVENT
UID:a8a9548b-527c-4b07-bee2-c292712ebfb6@obituary.companionfunerals.com
DTSTAMP:20260422T230408Z
DTSTART:20260429T183000Z
DTEND:20260429T193000Z
SUMMARY:Burial
DESCRIPTION:
URL:https://obituary.companionfunerals.com/jim-pettyjohn
LOCATION:Chattanooga National Cemetery 1200 Bailey Avenue  Chattanooga TN 
	37404
GEO:35.0370685;-85.2854433
END:VEVENT
END:VCALENDAR