BEGIN:VCALENDAR
VERSION:2.0
PRODID:-//Tukios.com/
BEGIN:VEVENT
UID:117dd852-ec83-4a69-b9f7-a7f9fcb3b881@obituary.companionfunerals.com
DTSTAMP:20260424T220337Z
DTSTART:20260426T211500Z
DTEND:20260426T214500Z
SUMMARY:Graveside Service
DESCRIPTION:
URL:https://obituary.companionfunerals.com/jerry-campbell
LOCATION: 798 Hughes Lake Road Southeast  Cleveland TN 37323
GEO:35.0141748;-84.8109844
END:VEVENT
END:VCALENDAR