BEGIN:VCALENDAR
VERSION:2.0
PRODID:-//Tukios.com/
BEGIN:VEVENT
UID:20c2f2a0-7bce-4a0b-9c51-1ffaa7919e73@obituary.companionfunerals.com
DTSTAMP:20260424T220956Z
DTSTART:20260426T200000Z
DTEND:20260426T210000Z
SUMMARY:Funeral Service
DESCRIPTION:
URL:https://obituary.companionfunerals.com/jerry-campbell
LOCATION: 2412 Georgetown Rd NW  Cleveland TN 37311
GEO:35.1865284;-84.885861
END:VEVENT
END:VCALENDAR