BEGIN:VCALENDAR
VERSION:2.0
PRODID:-//Tukios.com/
BEGIN:VEVENT
UID:6862f0b4-6f10-42e6-aa40-3321cba2dfb0@obituary.companionfunerals.com
DTSTAMP:20260420T224433Z
DTSTART:20260424T210000Z
DTEND:20260424T230000Z
SUMMARY:Visitation
DESCRIPTION:
URL:https://obituary.companionfunerals.com/jc-foxx
LOCATION: 400 S White St  Athens TN 37303
GEO:35.4372965;-84.5905208
END:VEVENT
END:VCALENDAR