BEGIN:VCALENDAR
VERSION:2.0
PRODID:-//Tukios.com/
BEGIN:VEVENT
UID:f2625984-6849-45dc-ba4a-7c173919e0c5@obituary.companionfunerals.com
DTSTAMP:20260426T013745Z
DTSTART:20260502T150000Z
DTEND:20260502T180000Z
SUMMARY:Visitation
DESCRIPTION:
URL:https://obituary.companionfunerals.com/jay-kyle
LOCATION: 2412 Georgetown Rd NW  Cleveland TN 37311
GEO:35.1865284;-84.885861
END:VEVENT
END:VCALENDAR