BEGIN:VCALENDAR
VERSION:2.0
PRODID:-//Tukios.com/
BEGIN:VEVENT
UID:3cec0a3d-61ad-4e3d-9535-760310f5c503@obituary.companionfunerals.com
DTSTAMP:20260426T014046Z
DTSTART:20260502T180000Z
DTEND:20260502T190000Z
SUMMARY:Celebration of Life
DESCRIPTION:
URL:https://obituary.companionfunerals.com/jay-kyle
LOCATION: 2412 Georgetown Rd NW  Cleveland TN 37311
GEO:35.1865284;-84.885861
END:VEVENT
END:VCALENDAR