BEGIN:VCALENDAR
VERSION:2.0
PRODID:-//Tukios.com/
BEGIN:VEVENT
UID:44c83006-824d-4629-abd4-c5f544753b4b@obituary.companionfunerals.com
DTSTAMP:20260421T003315Z
DTSTART:20260423T220000Z
DTEND:20260423T230000Z
SUMMARY:Celebration of Life
DESCRIPTION:
URL:https://obituary.companionfunerals.com/glenn-swafford
LOCATION:Bethel Baptist Church 2514 Old Chattanooga Pike  McDonald TN 
	37353
GEO:35.1091044;-84.9600297
END:VEVENT
END:VCALENDAR