BEGIN:VCALENDAR
VERSION:2.0
PRODID:-//Tukios.com/
BEGIN:VEVENT
UID:2b0641de-3854-4c7a-bb33-13aa625868ff@obituary.companionfunerals.com
DTSTAMP:20260421T003239Z
DTSTART:20260423T200000Z
DTEND:20260423T220000Z
SUMMARY:Visitation
DESCRIPTION:
URL:https://obituary.companionfunerals.com/glenn-swafford
LOCATION:Bethel Baptist Church 2514 Old Chattanooga Pike  McDonald TN 
	37353
GEO:35.1091044;-84.9600297
END:VEVENT
END:VCALENDAR