BEGIN:VCALENDAR
VERSION:2.0
PRODID:-//Tukios.com/
BEGIN:VEVENT
UID:59354926-8f53-48be-9c47-9a90d98f08e1@obituary.companionfunerals.com
DTSTAMP:20260424T003038Z
DTSTART:20260502T150000Z
DTEND:20260502T160000Z
SUMMARY:Graveside Service
DESCRIPTION:
URL:https://obituary.companionfunerals.com/fred-gregg
LOCATION: 7180 N Lee Hwy  Cleveland TN 37312
GEO:35.2510672;-84.795355
END:VEVENT
END:VCALENDAR