BEGIN:VCALENDAR
VERSION:2.0
PRODID:-//Tukios.com/
BEGIN:VEVENT
UID:7c7d946d-9147-4bdd-aa91-41e5d2c39187@obituary.companionfunerals.com
DTSTAMP:20260425T174616Z
DTSTART:20260426T140000Z
DTEND:20260426T150000Z
SUMMARY:Graveside Service
DESCRIPTION:
URL:https://obituary.companionfunerals.com/eleanor-hanson
LOCATION:Collegedale Memorial Park 4939 College Drive  Collegedale TN 
	37363
GEO:35.0461685;-85.0431563
END:VEVENT
END:VCALENDAR