BEGIN:VCALENDAR
VERSION:2.0
PRODID:-//Tukios.com/
BEGIN:VEVENT
UID:b552824c-4cde-42af-afef-b8413840ddac@obituary.companionfunerals.com
DTSTAMP:20260421T005121Z
DTSTART:20260423T210000Z
DTEND:20260423T230000Z
SUMMARY:Visitation
DESCRIPTION:
URL:https://obituary.companionfunerals.com/eddie-thoreson
LOCATION: 400 S White St  Athens TN 37303
GEO:35.4372965;-84.5905208
END:VEVENT
END:VCALENDAR