BEGIN:VCALENDAR
VERSION:2.0
PRODID:-//Tukios.com/
BEGIN:VEVENT
UID:ff06559a-2295-4f1f-8dda-c2b68238f287@obituary.companionfunerals.com
DTSTAMP:20260423T011250Z
DTSTART:20260424T170000Z
DTEND:20260424T180000Z
SUMMARY:Graveside Service
DESCRIPTION:
URL:https://obituary.companionfunerals.com/dannette-wright
LOCATION:Earls Cemetery 4973 Harrison Pike  McDonald TN 37353
GEO:35.1769126;-84.9868023
END:VEVENT
END:VCALENDAR