BEGIN:VCALENDAR
VERSION:2.0
PRODID:-//Tukios.com/
BEGIN:VEVENT
UID:67c9619f-447d-45f9-810e-9217ad3a0ac5@obituary.companionfunerals.com
DTSTAMP:20260420T190118Z
DTSTART:20260427T160000Z
DTEND:20260427T170000Z
SUMMARY:Memorial Service
DESCRIPTION:
URL:https://obituary.companionfunerals.com/charles-wehunt-jr
LOCATION:Companion Funeral Home - Cleveland Chapel 2415 Georgetown Road 
	Northwest  Cleveland TN 37311
GEO:35.187272;-84.8877739
END:VEVENT
END:VCALENDAR