BEGIN:VCALENDAR
VERSION:2.0
PRODID:-//Tukios.com/
BEGIN:VEVENT
UID:8b7eba88-2ef9-4888-90bd-aac19f1b97fc@obituary.companionfunerals.com
DTSTAMP:20260420T190036Z
DTSTART:20260427T140000Z
DTEND:20260427T160000Z
SUMMARY:Visitation
DESCRIPTION:
URL:https://obituary.companionfunerals.com/charles-wehunt-jr
LOCATION:Companion Funeral Home - Cleveland Chapel 2415 Georgetown Road 
	Northwest  Cleveland TN 37311
GEO:35.187272;-84.8877739
END:VEVENT
END:VCALENDAR