BEGIN:VCALENDAR
VERSION:2.0
PRODID:-//Tukios.com/
BEGIN:VEVENT
UID:c55866ff-99a3-4be2-8049-98a3961a538b@obituary.companionfunerals.com
DTSTAMP:20260423T234754Z
DTSTART:20260426T190000Z
DTEND:20260426T210000Z
SUMMARY:Memorial Service
DESCRIPTION:
URL:https://obituary.companionfunerals.com/caleb-howard
LOCATION:Memorial Service 670 Marble Top Road  Chickamauga GA 30707
GEO:34.8892472;-85.3266996
END:VEVENT
END:VCALENDAR