BEGIN:VCALENDAR
VERSION:2.0
PRODID:-//Tukios.com/
BEGIN:VEVENT
UID:be070349-5cfa-438a-8a4c-6ea9d6393284@obituary.companionfunerals.com
DTSTAMP:20260422T203416Z
DTSTART:20260501T160000Z
DTEND:20260501T170000Z
SUMMARY:Celebration of Life
DESCRIPTION:
URL:https://obituary.companionfunerals.com/bert-lute
LOCATION: 310 New Murraytown Rd NW  Cleveland TN 37312
GEO:35.1807743;-84.917051
END:VEVENT
END:VCALENDAR