BEGIN:VCALENDAR
VERSION:2.0
PRODID:-//Tukios.com/
BEGIN:VEVENT
UID:02dfdaec-2996-477b-82f5-3c5f792e8498@obituary.companionfunerals.com
DTSTAMP:20260422T203839Z
DTSTART:20260501T150000Z
DTEND:20260501T160000Z
SUMMARY:Visitation
DESCRIPTION:
URL:https://obituary.companionfunerals.com/bert-lute
LOCATION: 310 New Murraytown Rd NW  Cleveland TN 37312
GEO:35.1807743;-84.917051
END:VEVENT
END:VCALENDAR